BEGIN:VCALENDAR
VERSION:2.0
PRODID:-//Team Rio University - ECPv5.5.0.1//NONSGML v1.0//EN
CALSCALE:GREGORIAN
METHOD:PUBLISH
X-WR-CALNAME:Team Rio University
X-ORIGINAL-URL:https://www.teamriouniversity.com
X-WR-CALDESC:Events for Team Rio University
BEGIN:VTIMEZONE
TZID:UTC
BEGIN:STANDARD
TZOFFSETFROM:+0000
TZOFFSETTO:+0000
TZNAME:UTC
DTSTART:20150101T000000
END:STANDARD
END:VTIMEZONE
BEGIN:VEVENT
DTSTART;TZID=UTC:20150709T170000
DTEND;TZID=UTC:20150709T180000
DTSTAMP:20260419T145222
CREATED:20150508T003345Z
LAST-MODIFIED:20150508T003345Z
UID:11368-1436461200-1436464800@www.teamriouniversity.com
SUMMARY:Shooting Lab
DESCRIPTION:CLICK HERE FOR ALL PROGRAM DETAILS
URL:https://www.teamriouniversity.com/event/shooting-lab-3-2015-07-09/
END:VEVENT
END:VCALENDAR